BEGIN:VCALENDAR
VERSION:2.0
PRODID:-//BS Oudendijk - ECPv6.15.19//NONSGML v1.0//EN
CALSCALE:GREGORIAN
METHOD:PUBLISH
X-WR-CALNAME:BS Oudendijk
X-ORIGINAL-URL:https://bsoudendijk.nl
X-WR-CALDESC:Evenementen voor BS Oudendijk
REFRESH-INTERVAL;VALUE=DURATION:PT1H
X-Robots-Tag:noindex
X-PUBLISHED-TTL:PT1H
BEGIN:VTIMEZONE
TZID:UTC
BEGIN:STANDARD
TZOFFSETFROM:+0000
TZOFFSETTO:+0000
TZNAME:UTC
DTSTART:20240101T000000
END:STANDARD
END:VTIMEZONE
BEGIN:VEVENT
DTSTART;VALUE=DATE:20250630
DTEND;VALUE=DATE:20250704
DTSTAMP:20260421T203309
CREATED:20240812T125757Z
LAST-MODIFIED:20240812T125908Z
UID:4501-1751241600-1751587199@bsoudendijk.nl
SUMMARY:Eindejaarsschoonmaak in de klassen
DESCRIPTION:Nadere informatie volgt!
URL:https://bsoudendijk.nl/evenement/eindejaarsschoonmaak-in-de-klassen/
END:VEVENT
END:VCALENDAR