BEGIN:VCALENDAR
VERSION:2.0
PRODID:-//BS Oudendijk - ECPv6.15.19//NONSGML v1.0//EN
CALSCALE:GREGORIAN
METHOD:PUBLISH
X-WR-CALNAME:BS Oudendijk
X-ORIGINAL-URL:https://bsoudendijk.nl
X-WR-CALDESC:Evenementen voor BS Oudendijk
REFRESH-INTERVAL;VALUE=DURATION:PT1H
X-Robots-Tag:noindex
X-PUBLISHED-TTL:PT1H
BEGIN:VTIMEZONE
TZID:UTC
BEGIN:STANDARD
TZOFFSETFROM:+0000
TZOFFSETTO:+0000
TZNAME:UTC
DTSTART:20240101T000000
END:STANDARD
END:VTIMEZONE
BEGIN:VEVENT
DTSTART;TZID=UTC:20250710T100000
DTEND;TZID=UTC:20250710T120000
DTSTAMP:20260422T031443
CREATED:20240812T125626Z
LAST-MODIFIED:20240812T125626Z
UID:4499-1752141600-1752148800@bsoudendijk.nl
SUMMARY:Doorschuifochtend (groep 8 vrij)
DESCRIPTION:
URL:https://bsoudendijk.nl/evenement/doorschuifochtend-groep-8-vrij/
END:VEVENT
END:VCALENDAR