BEGIN:VCALENDAR
VERSION:2.0
PRODID:-//BS Oudendijk - ECPv6.15.19//NONSGML v1.0//EN
CALSCALE:GREGORIAN
METHOD:PUBLISH
X-WR-CALNAME:BS Oudendijk
X-ORIGINAL-URL:https://bsoudendijk.nl
X-WR-CALDESC:Evenementen voor BS Oudendijk
REFRESH-INTERVAL;VALUE=DURATION:PT1H
X-Robots-Tag:noindex
X-PUBLISHED-TTL:PT1H
BEGIN:VTIMEZONE
TZID:UTC
BEGIN:STANDARD
TZOFFSETFROM:+0000
TZOFFSETTO:+0000
TZNAME:UTC
DTSTART:20200101T000000
END:STANDARD
END:VTIMEZONE
BEGIN:VEVENT
DTSTART;TZID=UTC:20211130T151500
DTEND;TZID=UTC:20211130T210000
DTSTAMP:20260419T152603
CREATED:20210816T140649Z
LAST-MODIFIED:20210816T140945Z
UID:1514-1638285300-1638306000@bsoudendijk.nl
SUMMARY:Rapport-/voortgangsgesprekken
DESCRIPTION:Uitnodigingen volgen via Parro.
URL:https://bsoudendijk.nl/evenement/rapportgesprekken-2/
END:VEVENT
BEGIN:VEVENT
DTSTART;TZID=UTC:20211129T151500
DTEND;TZID=UTC:20211129T210000
DTSTAMP:20260419T152603
CREATED:20210816T140559Z
LAST-MODIFIED:20210816T140900Z
UID:1512-1638198900-1638219600@bsoudendijk.nl
SUMMARY:Rapport-/voortgangsgesprekken
DESCRIPTION:Uitnodigen volgen via Parro.
URL:https://bsoudendijk.nl/evenement/rapportgesprekken/
END:VEVENT
BEGIN:VEVENT
DTSTART;VALUE=DATE:20211129
DTEND;VALUE=DATE:20211201
DTSTAMP:20260419T152603
CREATED:20210816T140433Z
LAST-MODIFIED:20210816T140433Z
UID:1510-1638144000-1638316799@bsoudendijk.nl
SUMMARY:LEV2Live groep 7/8
DESCRIPTION:
URL:https://bsoudendijk.nl/evenement/lev2live-groep-7-8/
END:VEVENT
BEGIN:VEVENT
DTSTART;TZID=UTC:20211125T153000
DTEND;TZID=UTC:20211125T170000
DTSTAMP:20260419T152603
CREATED:20210816T140343Z
LAST-MODIFIED:20210816T140343Z
UID:1508-1637854200-1637859600@bsoudendijk.nl
SUMMARY:Teamvergadering
DESCRIPTION:
URL:https://bsoudendijk.nl/evenement/teamvergadering-6/
END:VEVENT
BEGIN:VEVENT
DTSTART;TZID=UTC:20211123T153000
DTEND;TZID=UTC:20211123T163000
DTSTAMP:20260419T152603
CREATED:20210816T140310Z
LAST-MODIFIED:20210816T140310Z
UID:1506-1637681400-1637685000@bsoudendijk.nl
SUMMARY:Naschoolse activiteit: Mad Science
DESCRIPTION:
URL:https://bsoudendijk.nl/evenement/naschoolse-activiteit-mad-science-2/
END:VEVENT
BEGIN:VEVENT
DTSTART;VALUE=DATE:20211123
DTEND;VALUE=DATE:20211124
DTSTAMP:20260419T152603
CREATED:20210816T140115Z
LAST-MODIFIED:20210816T140115Z
UID:1504-1637625600-1637711999@bsoudendijk.nl
SUMMARY:Uitdelen rapporten
DESCRIPTION:Dit is voor de groepen 3 t/m 8.
URL:https://bsoudendijk.nl/evenement/uitdelen-rapporten/
END:VEVENT
BEGIN:VEVENT
DTSTART;TZID=UTC:20211118T200000
DTEND;TZID=UTC:20211118T220000
DTSTAMP:20260419T152603
CREATED:20210816T140002Z
LAST-MODIFIED:20210816T140002Z
UID:1502-1637265600-1637272800@bsoudendijk.nl
SUMMARY:Bestuursvergadering
DESCRIPTION:
URL:https://bsoudendijk.nl/evenement/bestuursvergadering-2/
END:VEVENT
BEGIN:VEVENT
DTSTART;VALUE=DATE:20211118
DTEND;VALUE=DATE:20211119
DTSTAMP:20260419T152603
CREATED:20210816T135931Z
LAST-MODIFIED:20210816T135931Z
UID:1500-1637193600-1637279999@bsoudendijk.nl
SUMMARY:Nieuwsflits bijlage groep 5 en 6
DESCRIPTION:
URL:https://bsoudendijk.nl/evenement/nieuwsflits-bijlage-groep-5-en-6/
END:VEVENT
BEGIN:VEVENT
DTSTART;TZID=UTC:20211116T153000
DTEND;TZID=UTC:20211116T163000
DTSTAMP:20260419T152603
CREATED:20210816T135854Z
LAST-MODIFIED:20210816T135854Z
UID:1498-1637076600-1637080200@bsoudendijk.nl
SUMMARY:Mad Science
DESCRIPTION:
URL:https://bsoudendijk.nl/evenement/mad-science/
END:VEVENT
BEGIN:VEVENT
DTSTART;VALUE=DATE:20211116
DTEND;VALUE=DATE:20211117
DTSTAMP:20260419T152603
CREATED:20210816T135810Z
LAST-MODIFIED:20210816T135810Z
UID:1496-1637020800-1637107199@bsoudendijk.nl
SUMMARY:Controle fietsverlichting
DESCRIPTION:Nadere informatie volgt nog.
URL:https://bsoudendijk.nl/evenement/controle-fietsverlichting/
END:VEVENT
BEGIN:VEVENT
DTSTART;VALUE=DATE:20211110
DTEND;VALUE=DATE:20211111
DTSTAMP:20260419T152603
CREATED:20210816T135710Z
LAST-MODIFIED:20210816T135710Z
UID:1494-1636502400-1636588799@bsoudendijk.nl
SUMMARY:Nationale Boomfeestdag
DESCRIPTION:
URL:https://bsoudendijk.nl/evenement/nationale-boomfeestdag/
END:VEVENT
BEGIN:VEVENT
DTSTART;TZID=UTC:20211109T153000
DTEND;TZID=UTC:20211109T170000
DTSTAMP:20260419T152603
CREATED:20210816T135515Z
LAST-MODIFIED:20210816T135515Z
UID:1490-1636471800-1636477200@bsoudendijk.nl
SUMMARY:Teamvergadering
DESCRIPTION:
URL:https://bsoudendijk.nl/evenement/teamvergadering-5/
END:VEVENT
BEGIN:VEVENT
DTSTART;TZID=UTC:20211109T153000
DTEND;TZID=UTC:20211109T163000
DTSTAMP:20260419T152603
CREATED:20210816T135640Z
LAST-MODIFIED:20210816T135640Z
UID:1492-1636471800-1636475400@bsoudendijk.nl
SUMMARY:Naschoolse activiteit: Mad Science
DESCRIPTION:
URL:https://bsoudendijk.nl/evenement/naschoolse-activiteit-mad-science/
END:VEVENT
BEGIN:VEVENT
DTSTART;TZID=UTC:20211104T083000
DTEND;TZID=UTC:20211104T093000
DTSTAMP:20260419T152603
CREATED:20210816T135442Z
LAST-MODIFIED:20210816T135442Z
UID:1488-1636014600-1636018200@bsoudendijk.nl
SUMMARY:Nationaal Schoolontbijt
DESCRIPTION:
URL:https://bsoudendijk.nl/evenement/nationaal-schoolontbijt/
END:VEVENT
BEGIN:VEVENT
DTSTART;VALUE=DATE:20211104
DTEND;VALUE=DATE:20211113
DTSTAMP:20260419T152603
CREATED:20210816T135228Z
LAST-MODIFIED:20210816T135228Z
UID:1484-1635984000-1636761599@bsoudendijk.nl
SUMMARY:Week van de mediawijsheid (groep 7/8)
DESCRIPTION:
URL:https://bsoudendijk.nl/evenement/week-van-de-mediawijsheid-groep-7-8/
END:VEVENT
BEGIN:VEVENT
DTSTART;TZID=UTC:20211103T203000
DTEND;TZID=UTC:20211103T213000
DTSTAMP:20260419T152603
CREATED:20210816T135125Z
LAST-MODIFIED:20210816T135125Z
UID:1482-1635971400-1635975000@bsoudendijk.nl
SUMMARY:OR-vergadering
DESCRIPTION:
URL:https://bsoudendijk.nl/evenement/or-vergadering/
END:VEVENT
BEGIN:VEVENT
DTSTART;VALUE=DATE:20211102
DTEND;VALUE=DATE:20211103
DTSTAMP:20260419T152603
CREATED:20210816T135351Z
LAST-MODIFIED:20210816T135351Z
UID:1486-1635811200-1635897599@bsoudendijk.nl
SUMMARY:Les Dode Hoek
DESCRIPTION:
URL:https://bsoudendijk.nl/evenement/les-dode-hoek/
END:VEVENT
BEGIN:VEVENT
DTSTART;TZID=UTC:20211029T200000
DTEND;TZID=UTC:20211029T220000
DTSTAMP:20260419T152603
CREATED:20210816T135045Z
LAST-MODIFIED:20210816T135045Z
UID:1480-1635537600-1635544800@bsoudendijk.nl
SUMMARY:Bestuur informeel
DESCRIPTION:
URL:https://bsoudendijk.nl/evenement/bestuur-informeel/
END:VEVENT
BEGIN:VEVENT
DTSTART;TZID=UTC:20211028T153000
DTEND;TZID=UTC:20211028T170000
DTSTAMP:20260419T152603
CREATED:20210816T135007Z
LAST-MODIFIED:20210816T135007Z
UID:1478-1635435000-1635440400@bsoudendijk.nl
SUMMARY:Teamvergadering
DESCRIPTION:
URL:https://bsoudendijk.nl/evenement/teamvergadering-4/
END:VEVENT
BEGIN:VEVENT
DTSTART;TZID=UTC:20211025T083000
DTEND;TZID=UTC:20211025T093000
DTSTAMP:20260419T152603
CREATED:20210816T134936Z
LAST-MODIFIED:20210816T134936Z
UID:1476-1635150600-1635154200@bsoudendijk.nl
SUMMARY:Luizencontrole
DESCRIPTION:Als een kind luizen/neten heeft\, worden ouders gebeld met de vraag om hun kind op te halen en thuis te behandelen.
URL:https://bsoudendijk.nl/evenement/luizencontrole-8/
END:VEVENT
BEGIN:VEVENT
DTSTART;VALUE=DATE:20211018
DTEND;VALUE=DATE:20211023
DTSTAMP:20260419T152603
CREATED:20210816T134334Z
LAST-MODIFIED:20210816T134334Z
UID:1473-1634515200-1634947199@bsoudendijk.nl
SUMMARY:Herfstvakantie
DESCRIPTION:
URL:https://bsoudendijk.nl/evenement/herfstvakantie-2/
END:VEVENT
BEGIN:VEVENT
DTSTART;VALUE=DATE:20211014
DTEND;VALUE=DATE:20211015
DTSTAMP:20260419T152603
CREATED:20210816T134220Z
LAST-MODIFIED:20210816T134220Z
UID:1471-1634169600-1634255999@bsoudendijk.nl
SUMMARY:Nieuwsflits bijlage groep 3 en 4
DESCRIPTION:
URL:https://bsoudendijk.nl/evenement/nieuwsflits-bijlage-groep-3-en-4/
END:VEVENT
BEGIN:VEVENT
DTSTART;TZID=UTC:20211012T200000
DTEND;TZID=UTC:20211012T220000
DTSTAMP:20260419T152603
CREATED:20210816T133752Z
LAST-MODIFIED:20210816T133752Z
UID:1461-1634068800-1634076000@bsoudendijk.nl
SUMMARY:Bestuursveragdering
DESCRIPTION:
URL:https://bsoudendijk.nl/evenement/bestuursveragdering/
END:VEVENT
BEGIN:VEVENT
DTSTART;TZID=UTC:20211007T090000
DTEND;TZID=UTC:20211007T094000
DTSTAMP:20260419T152603
CREATED:20210816T133707Z
LAST-MODIFIED:20210816T133707Z
UID:1459-1633597200-1633599600@bsoudendijk.nl
SUMMARY:Promoshow Mad Science
DESCRIPTION:
URL:https://bsoudendijk.nl/evenement/promoshow-mad-science/
END:VEVENT
BEGIN:VEVENT
DTSTART;VALUE=DATE:20211006
DTEND;VALUE=DATE:20211016
DTSTAMP:20260419T152603
CREATED:20210816T133603Z
LAST-MODIFIED:20210816T133603Z
UID:1457-1633478400-1634342399@bsoudendijk.nl
SUMMARY:Kinderboekenweek 'Worden wat je wil'.
DESCRIPTION:
URL:https://bsoudendijk.nl/evenement/kinderboekenweek-worden-wat-je-wil/
END:VEVENT
BEGIN:VEVENT
DTSTART;TZID=UTC:20211005T153000
DTEND;TZID=UTC:20211005T170000
DTSTAMP:20260419T152603
CREATED:20210816T133439Z
LAST-MODIFIED:20210816T133439Z
UID:1453-1633447800-1633453200@bsoudendijk.nl
SUMMARY:Teamvergadering
DESCRIPTION:
URL:https://bsoudendijk.nl/evenement/teamvergadering-3/
END:VEVENT
BEGIN:VEVENT
DTSTART;VALUE=DATE:20211005
DTEND;VALUE=DATE:20211006
DTSTAMP:20260419T152603
CREATED:20210816T133508Z
LAST-MODIFIED:20210816T133508Z
UID:1455-1633392000-1633478399@bsoudendijk.nl
SUMMARY:Dag van de leraar
DESCRIPTION:
URL:https://bsoudendijk.nl/evenement/dag-van-de-leraar/
END:VEVENT
BEGIN:VEVENT
DTSTART;VALUE=DATE:20211004
DTEND;VALUE=DATE:20211110
DTSTAMP:20260419T152603
CREATED:20210816T133407Z
LAST-MODIFIED:20210816T134821Z
UID:1451-1633305600-1636502399@bsoudendijk.nl
SUMMARY:Cultuurproject Drama
DESCRIPTION:
URL:https://bsoudendijk.nl/evenement/cultuurproject-drama/
END:VEVENT
BEGIN:VEVENT
DTSTART;VALUE=DATE:20211002
DTEND;VALUE=DATE:20211003
DTSTAMP:20260419T152603
CREATED:20210816T133317Z
LAST-MODIFIED:20210816T133317Z
UID:1449-1633132800-1633219199@bsoudendijk.nl
SUMMARY:Schoolfeest!
DESCRIPTION:Nadere informatie over tijden etc. volgt nog.
URL:https://bsoudendijk.nl/evenement/schoolfeest/
END:VEVENT
BEGIN:VEVENT
DTSTART;TZID=UTC:20210929T080000
DTEND;TZID=UTC:20210929T170000
DTSTAMP:20260419T152603
CREATED:20210816T133216Z
LAST-MODIFIED:20210816T133216Z
UID:1447-1632902400-1632934800@bsoudendijk.nl
SUMMARY:Doemiddag Altena College (groep 7/8)
DESCRIPTION:
URL:https://bsoudendijk.nl/evenement/doemiddag-altena-college-groep-7-8/
END:VEVENT
END:VCALENDAR