BEGIN:VCALENDAR
VERSION:2.0
PRODID:-//BS Oudendijk - ECPv6.15.19//NONSGML v1.0//EN
CALSCALE:GREGORIAN
METHOD:PUBLISH
X-WR-CALNAME:BS Oudendijk
X-ORIGINAL-URL:https://bsoudendijk.nl
X-WR-CALDESC:Evenementen voor BS Oudendijk
REFRESH-INTERVAL;VALUE=DURATION:PT1H
X-Robots-Tag:noindex
X-PUBLISHED-TTL:PT1H
BEGIN:VTIMEZONE
TZID:UTC
BEGIN:STANDARD
TZOFFSETFROM:+0000
TZOFFSETTO:+0000
TZNAME:UTC
DTSTART:20200101T000000
END:STANDARD
END:VTIMEZONE
BEGIN:VEVENT
DTSTART;VALUE=DATE:20210922
DTEND;VALUE=DATE:20210923
DTSTAMP:20260421T172902
CREATED:20210816T132522Z
LAST-MODIFIED:20210816T132522Z
UID:1432-1632268800-1632355199@bsoudendijk.nl
SUMMARY:Nationale Drinkwaterdag
DESCRIPTION:
URL:https://bsoudendijk.nl/evenement/nationale-drinkwaterdag/
END:VEVENT
BEGIN:VEVENT
DTSTART;VALUE=DATE:20210916
DTEND;VALUE=DATE:20210917
DTSTAMP:20260421T172902
CREATED:20210816T133947Z
LAST-MODIFIED:20210816T133947Z
UID:1467-1631750400-1631836799@bsoudendijk.nl
SUMMARY:Autoloze schooldag
DESCRIPTION:
URL:https://bsoudendijk.nl/evenement/autoloze-schooldag/
END:VEVENT
BEGIN:VEVENT
DTSTART;TZID=UTC:20210915T203000
DTEND;TZID=UTC:20210915T213000
DTSTAMP:20260421T172902
CREATED:20210816T132449Z
LAST-MODIFIED:20210816T132449Z
UID:1430-1631737800-1631741400@bsoudendijk.nl
SUMMARY:OR-veragdering
DESCRIPTION:
URL:https://bsoudendijk.nl/evenement/or-veragdering/
END:VEVENT
BEGIN:VEVENT
DTSTART;TZID=UTC:20210914T180000
DTEND;TZID=UTC:20210914T210000
DTSTAMP:20260421T172902
CREATED:20210816T132413Z
LAST-MODIFIED:20210816T132413Z
UID:1428-1631642400-1631653200@bsoudendijk.nl
SUMMARY:Informatie avond
DESCRIPTION:Nadere informatie volgt nog.
URL:https://bsoudendijk.nl/evenement/informatie-avond-2/
END:VEVENT
BEGIN:VEVENT
DTSTART;TZID=UTC:20210913T180000
DTEND;TZID=UTC:20210913T210000
DTSTAMP:20260421T172902
CREATED:20210816T132327Z
LAST-MODIFIED:20210816T132327Z
UID:1426-1631556000-1631566800@bsoudendijk.nl
SUMMARY:Informatie avond
DESCRIPTION:Nadere informatie volgt.
URL:https://bsoudendijk.nl/evenement/informatie-avond/
END:VEVENT
BEGIN:VEVENT
DTSTART;VALUE=DATE:20210913
DTEND;VALUE=DATE:20210918
DTSTAMP:20260421T172902
CREATED:20210816T133928Z
LAST-MODIFIED:20210816T133928Z
UID:1465-1631491200-1631923199@bsoudendijk.nl
SUMMARY:Project op voeten en fietsen
DESCRIPTION:
URL:https://bsoudendijk.nl/evenement/project-op-voeten-en-fietsen/
END:VEVENT
BEGIN:VEVENT
DTSTART;TZID=UTC:20210910T080000
DTEND;TZID=UTC:20210910T170000
DTSTAMP:20260421T172902
CREATED:20210816T132157Z
LAST-MODIFIED:20210816T134430Z
UID:1424-1631260800-1631293200@bsoudendijk.nl
SUMMARY:Activiteiten open monumentendag groepen  5 t/m 8 in de Vesting en Kasteel Dussen
DESCRIPTION:Groep 7/8 heeft een tour door de Vesting om 13.00 uur. Alle kinderen op de fiets naar school. \nGroep 5/6 heeft een activiteit in Kasteel Dussen om 13.30 uur.
URL:https://bsoudendijk.nl/evenement/activiteiten-open-monumentendag-groepen-5-t-m-8-in-de-vesting-en-kasteel-dussen/
END:VEVENT
BEGIN:VEVENT
DTSTART;TZID=UTC:20210907T153000
DTEND;TZID=UTC:20210907T170000
DTSTAMP:20260421T172902
CREATED:20210816T131955Z
LAST-MODIFIED:20210816T131955Z
UID:1422-1631028600-1631034000@bsoudendijk.nl
SUMMARY:Teamvergadering
DESCRIPTION:
URL:https://bsoudendijk.nl/evenement/teamvergadering/
END:VEVENT
BEGIN:VEVENT
DTSTART;TZID=UTC:20210906T200000
DTEND;TZID=UTC:20210906T220000
DTSTAMP:20260421T172902
CREATED:20210816T133835Z
LAST-MODIFIED:20210816T133836Z
UID:1463-1630958400-1630965600@bsoudendijk.nl
SUMMARY:Bestuursvergadering
DESCRIPTION:
URL:https://bsoudendijk.nl/evenement/bestuursvergadering/
END:VEVENT
BEGIN:VEVENT
DTSTART;VALUE=DATE:20210906
DTEND;VALUE=DATE:20210907
DTSTAMP:20260421T172902
CREATED:20210816T134110Z
LAST-MODIFIED:20210816T134110Z
UID:1469-1630886400-1630972799@bsoudendijk.nl
SUMMARY:Voormeting op voeten en fietsen
DESCRIPTION:
URL:https://bsoudendijk.nl/evenement/voormeting-op-voeten-en-fietsen/
END:VEVENT
BEGIN:VEVENT
DTSTART;TZID=UTC:20210831T083000
DTEND;TZID=UTC:20210831T093000
DTSTAMP:20260421T172902
CREATED:20210816T131831Z
LAST-MODIFIED:20210816T131831Z
UID:1420-1630398600-1630402200@bsoudendijk.nl
SUMMARY:Luizencontrole
DESCRIPTION:Als een kind luizen/neten heeft\, worden ouders gebeld met de vraag om kind op te halen en te behandelen.
URL:https://bsoudendijk.nl/evenement/luizencontrole-7/
END:VEVENT
BEGIN:VEVENT
DTSTART;VALUE=DATE:20210830
DTEND;VALUE=DATE:20210831
DTSTAMP:20260421T172902
CREATED:20200528T110227Z
LAST-MODIFIED:20200528T110227Z
UID:511-1630281600-1630367999@bsoudendijk.nl
SUMMARY:Eerste schooldag!
DESCRIPTION:
URL:https://bsoudendijk.nl/evenement/eerste-schooldag-2/
END:VEVENT
BEGIN:VEVENT
DTSTART;TZID=UTC:20210719T080000
DTEND;TZID=UTC:20210827T170000
DTSTAMP:20260421T172902
CREATED:20200528T110128Z
LAST-MODIFIED:20200528T135409Z
UID:509-1626681600-1630083600@bsoudendijk.nl
SUMMARY:Zomervakantie
DESCRIPTION:
URL:https://bsoudendijk.nl/evenement/zomervakantie-2/
CATEGORIES:Uitgelicht
END:VEVENT
BEGIN:VEVENT
DTSTART;TZID=UTC:20210716T083000
DTEND;TZID=UTC:20210716T120000
DTSTAMP:20260421T172902
CREATED:20200528T110041Z
LAST-MODIFIED:20200528T110041Z
UID:507-1626424200-1626436800@bsoudendijk.nl
SUMMARY:Eindejaarsactiviteit (Vossenjacht)
DESCRIPTION:Samen sluiten wij het jaar af met een leuke activiteit\, tellen wij af voor de zomervakantie die dan om 12.00 begint!
URL:https://bsoudendijk.nl/evenement/eindejaarsactiviteit-vossenjacht/
END:VEVENT
BEGIN:VEVENT
DTSTART;TZID=UTC:20210714T120000
DTEND;TZID=UTC:20210714T120300
DTSTAMP:20260421T172902
CREATED:20200528T105832Z
LAST-MODIFIED:20200528T105832Z
UID:505-1626264000-1626264180@bsoudendijk.nl
SUMMARY:Afscheidspoortje groep 8
DESCRIPTION:
URL:https://bsoudendijk.nl/evenement/afscheidspoortje-groep-8/
END:VEVENT
BEGIN:VEVENT
DTSTART;TZID=UTC:20210713T193000
DTEND;TZID=UTC:20210713T230000
DTSTAMP:20260421T172902
CREATED:20200528T105731Z
LAST-MODIFIED:20200528T105731Z
UID:503-1626204600-1626217200@bsoudendijk.nl
SUMMARY:Musical groep 8
DESCRIPTION:
URL:https://bsoudendijk.nl/evenement/musical-groep-8/
END:VEVENT
BEGIN:VEVENT
DTSTART;VALUE=DATE:20210713
DTEND;VALUE=DATE:20210714
DTSTAMP:20260421T172902
CREATED:20200528T105103Z
LAST-MODIFIED:20200528T105103Z
UID:499-1626134400-1626220799@bsoudendijk.nl
SUMMARY:Eindrapport mee naar huis
DESCRIPTION:
URL:https://bsoudendijk.nl/evenement/eindrapport-mee-naar-huis/
END:VEVENT
BEGIN:VEVENT
DTSTART;TZID=UTC:20210708T100000
DTEND;TZID=UTC:20210708T120000
DTSTAMP:20260421T172902
CREATED:20200528T105635Z
LAST-MODIFIED:20210610T083251Z
UID:501-1625738400-1625745600@bsoudendijk.nl
SUMMARY:Doorschuifochtend
DESCRIPTION:Kinderen gaan een ochtend kennis maken met hun nieuwe klas en soms ook nieuwe juf(fen).
URL:https://bsoudendijk.nl/evenement/doorschuifochtend/
END:VEVENT
BEGIN:VEVENT
DTSTART;VALUE=DATE:20210524
DTEND;VALUE=DATE:20210525
DTSTAMP:20260421T172902
CREATED:20200528T104956Z
LAST-MODIFIED:20200528T104956Z
UID:497-1621814400-1621900799@bsoudendijk.nl
SUMMARY:Tweede Pinksterdag - vrij
DESCRIPTION:
URL:https://bsoudendijk.nl/evenement/tweede-pinksterdag-vrij/
END:VEVENT
BEGIN:VEVENT
DTSTART;VALUE=DATE:20210513
DTEND;VALUE=DATE:20210515
DTSTAMP:20260421T172902
CREATED:20200528T104915Z
LAST-MODIFIED:20200528T104915Z
UID:495-1620864000-1621036799@bsoudendijk.nl
SUMMARY:Hemelvaartweekend
DESCRIPTION:
URL:https://bsoudendijk.nl/evenement/hemelvaartweekend/
END:VEVENT
BEGIN:VEVENT
DTSTART;TZID=UTC:20210511T200000
DTEND;TZID=UTC:20210511T220000
DTSTAMP:20260421T172902
CREATED:20210816T144911Z
LAST-MODIFIED:20210816T144911Z
UID:1621-1620763200-1620770400@bsoudendijk.nl
SUMMARY:OR-vergadering
DESCRIPTION:
URL:https://bsoudendijk.nl/evenement/or-vergadering-5/
END:VEVENT
BEGIN:VEVENT
DTSTART;TZID=UTC:20210511T083000
DTEND;TZID=UTC:20210511T150000
DTSTAMP:20260421T172902
CREATED:20200528T104825Z
LAST-MODIFIED:20200528T104825Z
UID:493-1620721800-1620745200@bsoudendijk.nl
SUMMARY:Kleuterfeest!
DESCRIPTION:Iedereen is op schoolkamp\, dus de kleuters hebben het rijk alleen! Tijd voor een spetterend kleuterfeest om nooit meer te vergeten!
URL:https://bsoudendijk.nl/evenement/kleuterfeest/
END:VEVENT
BEGIN:VEVENT
DTSTART;TZID=UTC:20210510T083000
DTEND;TZID=UTC:20210512T120000
DTSTAMP:20260421T172902
CREATED:20200528T104706Z
LAST-MODIFIED:20200528T104706Z
UID:491-1620635400-1620820800@bsoudendijk.nl
SUMMARY:Schoolkamp
DESCRIPTION:Zoals ieder jaar gaan wij met groep 3 t/m 8 op schoolkamp! Drie topdagen met kinderen\, ouders en team. \nWij hebben al jaren een vaste stek waar wij heerlijk kunnen bivakkeren. Meer dan genoeg ruimte en ook bij slechter weer kunnen wij daar genoeg doen. \nhttps://www.dekievit.info/ \n  \n 
URL:https://bsoudendijk.nl/evenement/schoolkamp/
END:VEVENT
BEGIN:VEVENT
DTSTART;VALUE=DATE:20210426
DTEND;VALUE=DATE:20210508
DTSTAMP:20260421T172902
CREATED:20200528T104202Z
LAST-MODIFIED:20200528T104202Z
UID:489-1619395200-1620431999@bsoudendijk.nl
SUMMARY:Meivakantie
DESCRIPTION:
URL:https://bsoudendijk.nl/evenement/meivakantie/
END:VEVENT
BEGIN:VEVENT
DTSTART;VALUE=DATE:20210423
DTEND;VALUE=DATE:20210424
DTSTAMP:20260421T172902
CREATED:20200528T104113Z
LAST-MODIFIED:20200528T104113Z
UID:487-1619136000-1619222399@bsoudendijk.nl
SUMMARY:Koningsspelen
DESCRIPTION:
URL:https://bsoudendijk.nl/evenement/koningsspelen/
END:VEVENT
BEGIN:VEVENT
DTSTART;TZID=UTC:20210422T083000
DTEND;TZID=UTC:20210422T100000
DTSTAMP:20260421T172902
CREATED:20200528T104034Z
LAST-MODIFIED:20200528T104034Z
UID:485-1619080200-1619085600@bsoudendijk.nl
SUMMARY:Luizencontrole
DESCRIPTION:Dit is een controle voor het schoolkamp. U heeft dan nog een hele meivakantie om te behandelen indien nodig.
URL:https://bsoudendijk.nl/evenement/luizencontrole-5/
END:VEVENT
BEGIN:VEVENT
DTSTART;TZID=UTC:20210421T083000
DTEND;TZID=UTC:20210421T120000
DTSTAMP:20260421T172902
CREATED:20200528T103852Z
LAST-MODIFIED:20200528T103852Z
UID:483-1618993800-1619006400@bsoudendijk.nl
SUMMARY:IEP Eindtoets groep 8
DESCRIPTION:
URL:https://bsoudendijk.nl/evenement/iep-eindtoets-groep-8-2/
END:VEVENT
BEGIN:VEVENT
DTSTART;TZID=UTC:20210420T083000
DTEND;TZID=UTC:20210420T120000
DTSTAMP:20260421T172902
CREATED:20200528T103807Z
LAST-MODIFIED:20200528T103807Z
UID:481-1618907400-1618920000@bsoudendijk.nl
SUMMARY:IEP Eindtoets groep 8
DESCRIPTION:
URL:https://bsoudendijk.nl/evenement/iep-eindtoets-groep-8/
END:VEVENT
BEGIN:VEVENT
DTSTART;VALUE=DATE:20210405
DTEND;VALUE=DATE:20210406
DTSTAMP:20260421T172902
CREATED:20200528T103638Z
LAST-MODIFIED:20200528T103638Z
UID:479-1617580800-1617667199@bsoudendijk.nl
SUMMARY:Tweede paasdag - vrij
DESCRIPTION:
URL:https://bsoudendijk.nl/evenement/tweede-paasdag-vrij/
END:VEVENT
BEGIN:VEVENT
DTSTART;VALUE=DATE:20210402
DTEND;VALUE=DATE:20210403
DTSTAMP:20260421T172902
CREATED:20200528T103552Z
LAST-MODIFIED:20200528T103552Z
UID:477-1617321600-1617407999@bsoudendijk.nl
SUMMARY:Goede Vrijdag - vrij
DESCRIPTION:
URL:https://bsoudendijk.nl/evenement/goede-vrijdag-vrij/
END:VEVENT
END:VCALENDAR