BEGIN:VCALENDAR
VERSION:2.0
PRODID:-//BS Oudendijk - ECPv6.15.19//NONSGML v1.0//EN
CALSCALE:GREGORIAN
METHOD:PUBLISH
X-WR-CALNAME:BS Oudendijk
X-ORIGINAL-URL:https://bsoudendijk.nl
X-WR-CALDESC:Evenementen voor BS Oudendijk
REFRESH-INTERVAL;VALUE=DURATION:PT1H
X-Robots-Tag:noindex
X-PUBLISHED-TTL:PT1H
BEGIN:VTIMEZONE
TZID:UTC
BEGIN:STANDARD
TZOFFSETFROM:+0000
TZOFFSETTO:+0000
TZNAME:UTC
DTSTART:20190101T000000
END:STANDARD
END:VTIMEZONE
BEGIN:VEVENT
DTSTART;TZID=UTC:20210201T083000
DTEND;TZID=UTC:20210201T093000
DTSTAMP:20260422T134752
CREATED:20200704T114613Z
LAST-MODIFIED:20200704T114613Z
UID:623-1612168200-1612171800@bsoudendijk.nl
SUMMARY:Luizencontrole
DESCRIPTION:
URL:https://bsoudendijk.nl/evenement/luizencontrole-6/
END:VEVENT
BEGIN:VEVENT
DTSTART;TZID=UTC:20210104T083000
DTEND;TZID=UTC:20210104T100000
DTSTAMP:20260422T134752
CREATED:20200528T102638Z
LAST-MODIFIED:20200528T102638Z
UID:463-1609749000-1609754400@bsoudendijk.nl
SUMMARY:Luizencontrole
DESCRIPTION:
URL:https://bsoudendijk.nl/evenement/luizencontrole-3/
END:VEVENT
BEGIN:VEVENT
DTSTART;TZID=UTC:20201218T120000
DTEND;TZID=UTC:20210101T000000
DTSTAMP:20260422T134752
CREATED:20200526T130011Z
LAST-MODIFIED:20200526T130011Z
UID:437-1608292800-1609459200@bsoudendijk.nl
SUMMARY:Kerstvakantie
DESCRIPTION:Om 12.00 uur zijn de kinderen uit en kan iedereen genieten van gezellige kerstdagen en een lekkere vakantie!
URL:https://bsoudendijk.nl/evenement/kerstvakantie/
END:VEVENT
BEGIN:VEVENT
DTSTART;TZID=UTC:20201217T170000
DTEND;TZID=UTC:20201217T190000
DTSTAMP:20260422T134752
CREATED:20200526T125743Z
LAST-MODIFIED:20200526T125743Z
UID:435-1608224400-1608231600@bsoudendijk.nl
SUMMARY:Kerstdiner (kinderen 's middags vrij)
DESCRIPTION:Deze middag zijn de kinderen vrij om zich mooi aan te kleden en voor te bereiden op een gezellig en sfeervol Kerstdiner.
URL:https://bsoudendijk.nl/evenement/kerstdiner-kinderen-s-middags-vrij/
END:VEVENT
BEGIN:VEVENT
DTSTART;TZID=UTC:20201204T083000
DTEND;TZID=UTC:20201204T120000
DTSTAMP:20260422T134752
CREATED:20200526T125556Z
LAST-MODIFIED:20200526T125556Z
UID:433-1607070600-1607083200@bsoudendijk.nl
SUMMARY:Sint komt op school!
DESCRIPTION:Samen met de Sint en zijn Pieten vieren wij zijn verjaardag met elkaar in de hal. Daarna gaan Sint en de Pieten de klassen langs.
URL:https://bsoudendijk.nl/evenement/sint-komt-op-school/
END:VEVENT
BEGIN:VEVENT
DTSTART;TZID=UTC:20201201T153000
DTEND;TZID=UTC:20201201T210000
DTSTAMP:20260422T134752
CREATED:20200526T125349Z
LAST-MODIFIED:20200526T125349Z
UID:431-1606836600-1606856400@bsoudendijk.nl
SUMMARY:Rapport-/voortgangsgesprekken
DESCRIPTION:
URL:https://bsoudendijk.nl/evenement/rapport-voortgangsgesprekken-2/
END:VEVENT
BEGIN:VEVENT
DTSTART;TZID=UTC:20201130T153000
DTEND;TZID=UTC:20201130T210000
DTSTAMP:20260422T134752
CREATED:20200526T125301Z
LAST-MODIFIED:20200526T125301Z
UID:429-1606750200-1606770000@bsoudendijk.nl
SUMMARY:Rapport-/voortgangsgesprekken
DESCRIPTION:
URL:https://bsoudendijk.nl/evenement/rapport-voortgangsgesprekken/
END:VEVENT
BEGIN:VEVENT
DTSTART;VALUE=DATE:20201124
DTEND;VALUE=DATE:20201125
DTSTAMP:20260422T134752
CREATED:20200526T125130Z
LAST-MODIFIED:20200526T125146Z
UID:426-1606176000-1606262399@bsoudendijk.nl
SUMMARY:Eerste rapport mee naar huis
DESCRIPTION:Op woensdag krijgt u via Parro een uitnodiging voor een rapport-/voortgangsgesprek.
URL:https://bsoudendijk.nl/evenement/eerste-rapporten-mee-naar-huis/
END:VEVENT
BEGIN:VEVENT
DTSTART;TZID=UTC:20201028T130000
DTEND;TZID=UTC:20201028T163000
DTSTAMP:20260422T134752
CREATED:20200528T101724Z
LAST-MODIFIED:20200528T101724Z
UID:455-1603890000-1603902600@bsoudendijk.nl
SUMMARY:Teamtraining leren leren
DESCRIPTION:
URL:https://bsoudendijk.nl/evenement/teamtraining-leren-leren-2/
END:VEVENT
BEGIN:VEVENT
DTSTART;TZID=UTC:20201026T083000
DTEND;TZID=UTC:20201026T100000
DTSTAMP:20260422T134752
CREATED:20200526T131502Z
LAST-MODIFIED:20200526T131502Z
UID:440-1603701000-1603706400@bsoudendijk.nl
SUMMARY:Luizencontrole
DESCRIPTION:
URL:https://bsoudendijk.nl/evenement/luizencontrole-2/
END:VEVENT
BEGIN:VEVENT
DTSTART;VALUE=DATE:20201019
DTEND;VALUE=DATE:20201024
DTSTAMP:20260422T134752
CREATED:20200526T124837Z
LAST-MODIFIED:20200526T124837Z
UID:423-1603065600-1603497599@bsoudendijk.nl
SUMMARY:Herfstvakantie
DESCRIPTION:
URL:https://bsoudendijk.nl/evenement/herfstvakantie/
END:VEVENT
BEGIN:VEVENT
DTSTART;VALUE=DATE:20200930
DTEND;VALUE=DATE:20201010
DTSTAMP:20260422T134752
CREATED:20200526T124755Z
LAST-MODIFIED:20200526T124922Z
UID:421-1601424000-1602287999@bsoudendijk.nl
SUMMARY:Kinderboekenweek 'En toen?'
DESCRIPTION:Gedurende twee weken hebben wij allerlei leuke activiteiten binnen het thema van de kinderboekenweek. Ook wordt in de groepen  5 t/m 8 de voorleeswedstrijd gehouden. De winnaar gaat door naar de regionale ronde/
URL:https://bsoudendijk.nl/evenement/start-kinderboekenweek-en-toen/
END:VEVENT
BEGIN:VEVENT
DTSTART;TZID=UTC:20200923T080000
DTEND;TZID=UTC:20200923T170000
DTSTAMP:20260422T134752
CREATED:20200526T124203Z
LAST-MODIFIED:20200526T124203Z
UID:419-1600848000-1600880400@bsoudendijk.nl
SUMMARY:Kinderpostzegels verkopen groep 7/8
DESCRIPTION:De kinderen zijn om 12.00 uur uit om 's middags een boel zegels\, kaarten etc. te verkopen voor het goede doel.
URL:https://bsoudendijk.nl/evenement/kinderpostzegels-verkopen-groep-7-8/
END:VEVENT
BEGIN:VEVENT
DTSTART;TZID=UTC:20200922T090000
DTEND;TZID=UTC:20200922T100000
DTSTAMP:20260422T134752
CREATED:20200526T123921Z
LAST-MODIFIED:20200526T123921Z
UID:417-1600765200-1600768800@bsoudendijk.nl
SUMMARY:Mad Science promoshow
DESCRIPTION:Na en leuke promoshow door een gekke professor kunt u uw kind inschrijven voor scienclessen op de dinsdagmiddag van 27 oktober t/m 1 december.
URL:https://bsoudendijk.nl/evenement/mad-science-promoshow/
END:VEVENT
BEGIN:VEVENT
DTSTART;TZID=UTC:20200917T190000
DTEND;TZID=UTC:20200917T210000
DTSTAMP:20260422T134752
CREATED:20200526T123349Z
LAST-MODIFIED:20200526T123625Z
UID:415-1600369200-1600376400@bsoudendijk.nl
SUMMARY:Informatieavond groepen 5 t/m 8
DESCRIPTION:U hoort tijdig wanneer u waar moet zijn!
URL:https://bsoudendijk.nl/evenement/informatieavond-groepen-5-t-m-8/
END:VEVENT
BEGIN:VEVENT
DTSTART;TZID=UTC:20200916T130000
DTEND;TZID=UTC:20200916T163000
DTSTAMP:20260422T134752
CREATED:20200528T101149Z
LAST-MODIFIED:20200528T101149Z
UID:453-1600261200-1600273800@bsoudendijk.nl
SUMMARY:Teamtraining leren leren
DESCRIPTION:
URL:https://bsoudendijk.nl/evenement/teamtraining-leren-leren/
END:VEVENT
BEGIN:VEVENT
DTSTART;TZID=UTC:20200914T180000
DTEND;TZID=UTC:20200914T200000
DTSTAMP:20260422T134752
CREATED:20200526T123246Z
LAST-MODIFIED:20200526T123246Z
UID:413-1600106400-1600113600@bsoudendijk.nl
SUMMARY:Informatieavond groepen 1 t/m 4
DESCRIPTION:U hoort tijdig wanneer u waar moet zijn.
URL:https://bsoudendijk.nl/evenement/informatieavond-groepen-1-t-m-4/
END:VEVENT
BEGIN:VEVENT
DTSTART;VALUE=DATE:20200911
DTEND;VALUE=DATE:20200912
DTSTAMP:20260422T134752
CREATED:20200526T123059Z
LAST-MODIFIED:20200526T123059Z
UID:411-1599782400-1599868799@bsoudendijk.nl
SUMMARY:Open monumentendag
DESCRIPTION:Voor de groepen 5/6 en 7/8 is er dan meestal een activiteit georganiseerd!
URL:https://bsoudendijk.nl/evenement/open-monumentendag/
END:VEVENT
BEGIN:VEVENT
DTSTART;TZID=UTC:20200901T083000
DTEND;TZID=UTC:20200901T100000
DTSTAMP:20260422T134752
CREATED:20200526T122749Z
LAST-MODIFIED:20200526T122749Z
UID:409-1598949000-1598954400@bsoudendijk.nl
SUMMARY:Luizencontrole
DESCRIPTION:
URL:https://bsoudendijk.nl/evenement/luizencontrole/
END:VEVENT
BEGIN:VEVENT
DTSTART;VALUE=DATE:20200831
DTEND;VALUE=DATE:20200901
DTSTAMP:20260422T134752
CREATED:20200526T122602Z
LAST-MODIFIED:20200526T122602Z
UID:407-1598832000-1598918399@bsoudendijk.nl
SUMMARY:Eerste schooldag
DESCRIPTION:
URL:https://bsoudendijk.nl/evenement/eerste-schooldag/
END:VEVENT
BEGIN:VEVENT
DTSTART;VALUE=DATE:20200720
DTEND;VALUE=DATE:20200829
DTSTAMP:20260422T134752
CREATED:20200528T100858Z
LAST-MODIFIED:20200528T100858Z
UID:448-1595203200-1598659199@bsoudendijk.nl
SUMMARY:Zomervakantie!
DESCRIPTION:
URL:https://bsoudendijk.nl/evenement/zomervakantie/
END:VEVENT
BEGIN:VEVENT
DTSTART;TZID=UTC:20200717T083000
DTEND;TZID=UTC:20200717T120000
DTSTAMP:20260422T134752
CREATED:20200528T100751Z
LAST-MODIFIED:20200528T100751Z
UID:445-1594974600-1594987200@bsoudendijk.nl
SUMMARY:Feestelijke afsluiting schooljaar. Kinderen vanaf 12.00 uur vrij!
DESCRIPTION:
URL:https://bsoudendijk.nl/evenement/feestelijke-afsluiting-schooljaar-kinderen-vanaf-12-00-uur-vrij/
END:VEVENT
BEGIN:VEVENT
DTSTART;TZID=UTC:20200714T190000
DTEND;TZID=UTC:20200714T230000
DTSTAMP:20260422T134752
CREATED:20200528T100640Z
LAST-MODIFIED:20200528T100640Z
UID:443-1594753200-1594767600@bsoudendijk.nl
SUMMARY:Afscheid groep 8
DESCRIPTION:Een jaar anders dan andere jaren\, maar daardoor een niet minder feestelijk afscheid. Uiteraard maken wij er weer een geheel eigen project van! U ontvangt tijdig een uitnodiging voor deze bijzondere avond van uw kind.
URL:https://bsoudendijk.nl/evenement/afscheid-groep-8/
END:VEVENT
BEGIN:VEVENT
DTSTART;TZID=UTC:20200702T083000
DTEND;TZID=UTC:20200702T120000
DTSTAMP:20260422T134752
CREATED:20200528T111057Z
LAST-MODIFIED:20200528T111140Z
UID:513-1593678600-1593691200@bsoudendijk.nl
SUMMARY:Schoolfotograaf
DESCRIPTION:Met een aangepaste werkwijze worden er dit jaar wel schoolfoto's gemaakt. \nDit jaar alleen voor alle schoolgaande kinderen\, dus geen broertjes en/of zusjes die nog niet bij ons op school zitten.
URL:https://bsoudendijk.nl/evenement/schoolfotograaf/
END:VEVENT
BEGIN:VEVENT
DTSTART;VALUE=DATE:20200701
DTEND;VALUE=DATE:20200702
DTSTAMP:20260422T134752
CREATED:20200528T102007Z
LAST-MODIFIED:20200528T102007Z
UID:461-1593561600-1593647999@bsoudendijk.nl
SUMMARY:Eindrapport mee met de kinderen
DESCRIPTION:
URL:https://bsoudendijk.nl/evenement/eindrapport-mee-met-de-kinderen/
END:VEVENT
BEGIN:VEVENT
DTSTART;TZID=UTC:20200603T130000
DTEND;TZID=UTC:20200603T163000
DTSTAMP:20260422T134752
CREATED:20200528T101804Z
LAST-MODIFIED:20200528T101804Z
UID:457-1591189200-1591201800@bsoudendijk.nl
SUMMARY:Teamtraining leren leren (kinderen om 12.00 uur uit)
DESCRIPTION:
URL:https://bsoudendijk.nl/evenement/teamtraining-leren-leren-kinderen-om-12-00-uur-uit/
END:VEVENT
END:VCALENDAR