BEGIN:VCALENDAR
VERSION:2.0
PRODID:-//BS Oudendijk - ECPv6.15.19//NONSGML v1.0//EN
CALSCALE:GREGORIAN
METHOD:PUBLISH
X-WR-CALNAME:BS Oudendijk
X-ORIGINAL-URL:https://bsoudendijk.nl
X-WR-CALDESC:Evenementen voor BS Oudendijk
REFRESH-INTERVAL;VALUE=DURATION:PT1H
X-Robots-Tag:noindex
X-PUBLISHED-TTL:PT1H
BEGIN:VTIMEZONE
TZID:UTC
BEGIN:STANDARD
TZOFFSETFROM:+0000
TZOFFSETTO:+0000
TZNAME:UTC
DTSTART:20190101T000000
END:STANDARD
END:VTIMEZONE
BEGIN:VEVENT
DTSTART;TZID=UTC:20200916T130000
DTEND;TZID=UTC:20200916T163000
DTSTAMP:20260423T222425
CREATED:20200528T101149Z
LAST-MODIFIED:20200528T101149Z
UID:453-1600261200-1600273800@bsoudendijk.nl
SUMMARY:Teamtraining leren leren
DESCRIPTION:
URL:https://bsoudendijk.nl/evenement/teamtraining-leren-leren/
END:VEVENT
BEGIN:VEVENT
DTSTART;TZID=UTC:20200914T180000
DTEND;TZID=UTC:20200914T200000
DTSTAMP:20260423T222425
CREATED:20200526T123246Z
LAST-MODIFIED:20200526T123246Z
UID:413-1600106400-1600113600@bsoudendijk.nl
SUMMARY:Informatieavond groepen 1 t/m 4
DESCRIPTION:U hoort tijdig wanneer u waar moet zijn.
URL:https://bsoudendijk.nl/evenement/informatieavond-groepen-1-t-m-4/
END:VEVENT
BEGIN:VEVENT
DTSTART;VALUE=DATE:20200911
DTEND;VALUE=DATE:20200912
DTSTAMP:20260423T222425
CREATED:20200526T123059Z
LAST-MODIFIED:20200526T123059Z
UID:411-1599782400-1599868799@bsoudendijk.nl
SUMMARY:Open monumentendag
DESCRIPTION:Voor de groepen 5/6 en 7/8 is er dan meestal een activiteit georganiseerd!
URL:https://bsoudendijk.nl/evenement/open-monumentendag/
END:VEVENT
BEGIN:VEVENT
DTSTART;TZID=UTC:20200901T083000
DTEND;TZID=UTC:20200901T100000
DTSTAMP:20260423T222425
CREATED:20200526T122749Z
LAST-MODIFIED:20200526T122749Z
UID:409-1598949000-1598954400@bsoudendijk.nl
SUMMARY:Luizencontrole
DESCRIPTION:
URL:https://bsoudendijk.nl/evenement/luizencontrole/
END:VEVENT
BEGIN:VEVENT
DTSTART;VALUE=DATE:20200831
DTEND;VALUE=DATE:20200901
DTSTAMP:20260423T222425
CREATED:20200526T122602Z
LAST-MODIFIED:20200526T122602Z
UID:407-1598832000-1598918399@bsoudendijk.nl
SUMMARY:Eerste schooldag
DESCRIPTION:
URL:https://bsoudendijk.nl/evenement/eerste-schooldag/
END:VEVENT
BEGIN:VEVENT
DTSTART;VALUE=DATE:20200720
DTEND;VALUE=DATE:20200829
DTSTAMP:20260423T222425
CREATED:20200528T100858Z
LAST-MODIFIED:20200528T100858Z
UID:448-1595203200-1598659199@bsoudendijk.nl
SUMMARY:Zomervakantie!
DESCRIPTION:
URL:https://bsoudendijk.nl/evenement/zomervakantie/
END:VEVENT
BEGIN:VEVENT
DTSTART;TZID=UTC:20200717T083000
DTEND;TZID=UTC:20200717T120000
DTSTAMP:20260423T222425
CREATED:20200528T100751Z
LAST-MODIFIED:20200528T100751Z
UID:445-1594974600-1594987200@bsoudendijk.nl
SUMMARY:Feestelijke afsluiting schooljaar. Kinderen vanaf 12.00 uur vrij!
DESCRIPTION:
URL:https://bsoudendijk.nl/evenement/feestelijke-afsluiting-schooljaar-kinderen-vanaf-12-00-uur-vrij/
END:VEVENT
BEGIN:VEVENT
DTSTART;TZID=UTC:20200714T190000
DTEND;TZID=UTC:20200714T230000
DTSTAMP:20260423T222425
CREATED:20200528T100640Z
LAST-MODIFIED:20200528T100640Z
UID:443-1594753200-1594767600@bsoudendijk.nl
SUMMARY:Afscheid groep 8
DESCRIPTION:Een jaar anders dan andere jaren\, maar daardoor een niet minder feestelijk afscheid. Uiteraard maken wij er weer een geheel eigen project van! U ontvangt tijdig een uitnodiging voor deze bijzondere avond van uw kind.
URL:https://bsoudendijk.nl/evenement/afscheid-groep-8/
END:VEVENT
BEGIN:VEVENT
DTSTART;TZID=UTC:20200702T083000
DTEND;TZID=UTC:20200702T120000
DTSTAMP:20260423T222425
CREATED:20200528T111057Z
LAST-MODIFIED:20200528T111140Z
UID:513-1593678600-1593691200@bsoudendijk.nl
SUMMARY:Schoolfotograaf
DESCRIPTION:Met een aangepaste werkwijze worden er dit jaar wel schoolfoto's gemaakt. \nDit jaar alleen voor alle schoolgaande kinderen\, dus geen broertjes en/of zusjes die nog niet bij ons op school zitten.
URL:https://bsoudendijk.nl/evenement/schoolfotograaf/
END:VEVENT
BEGIN:VEVENT
DTSTART;VALUE=DATE:20200701
DTEND;VALUE=DATE:20200702
DTSTAMP:20260423T222425
CREATED:20200528T102007Z
LAST-MODIFIED:20200528T102007Z
UID:461-1593561600-1593647999@bsoudendijk.nl
SUMMARY:Eindrapport mee met de kinderen
DESCRIPTION:
URL:https://bsoudendijk.nl/evenement/eindrapport-mee-met-de-kinderen/
END:VEVENT
BEGIN:VEVENT
DTSTART;TZID=UTC:20200603T130000
DTEND;TZID=UTC:20200603T163000
DTSTAMP:20260423T222425
CREATED:20200528T101804Z
LAST-MODIFIED:20200528T101804Z
UID:457-1591189200-1591201800@bsoudendijk.nl
SUMMARY:Teamtraining leren leren (kinderen om 12.00 uur uit)
DESCRIPTION:
URL:https://bsoudendijk.nl/evenement/teamtraining-leren-leren-kinderen-om-12-00-uur-uit/
END:VEVENT
END:VCALENDAR