BEGIN:VCALENDAR
VERSION:2.0
PRODID:-//BS Oudendijk - ECPv6.15.19//NONSGML v1.0//EN
CALSCALE:GREGORIAN
METHOD:PUBLISH
X-WR-CALNAME:BS Oudendijk
X-ORIGINAL-URL:https://bsoudendijk.nl
X-WR-CALDESC:Evenementen voor BS Oudendijk
REFRESH-INTERVAL;VALUE=DURATION:PT1H
X-Robots-Tag:noindex
X-PUBLISHED-TTL:PT1H
BEGIN:VTIMEZONE
TZID:UTC
BEGIN:STANDARD
TZOFFSETFROM:+0000
TZOFFSETTO:+0000
TZNAME:UTC
DTSTART:20240101T000000
END:STANDARD
END:VTIMEZONE
BEGIN:VEVENT
DTSTART;VALUE=DATE:20250630
DTEND;VALUE=DATE:20250704
DTSTAMP:20260421T165824
CREATED:20240812T125757Z
LAST-MODIFIED:20240812T125908Z
UID:4501-1751241600-1751587199@bsoudendijk.nl
SUMMARY:Eindejaarsschoonmaak in de klassen
DESCRIPTION:Nadere informatie volgt!
URL:https://bsoudendijk.nl/evenement/eindejaarsschoonmaak-in-de-klassen/
END:VEVENT
BEGIN:VEVENT
DTSTART;TZID=UTC:20250710T100000
DTEND;TZID=UTC:20250710T120000
DTSTAMP:20260421T165824
CREATED:20240812T125626Z
LAST-MODIFIED:20240812T125626Z
UID:4499-1752141600-1752148800@bsoudendijk.nl
SUMMARY:Doorschuifochtend (groep 8 vrij)
DESCRIPTION:
URL:https://bsoudendijk.nl/evenement/doorschuifochtend-groep-8-vrij/
END:VEVENT
BEGIN:VEVENT
DTSTART;VALUE=DATE:20250715
DTEND;VALUE=DATE:20250716
DTSTAMP:20260421T165824
CREATED:20240812T125941Z
LAST-MODIFIED:20240812T125941Z
UID:4503-1752537600-1752623999@bsoudendijk.nl
SUMMARY:Eindrapport mee naar huis
DESCRIPTION:
URL:https://bsoudendijk.nl/evenement/eindrapport-mee-naar-huis-4/
END:VEVENT
BEGIN:VEVENT
DTSTART;VALUE=DATE:20250715
DTEND;VALUE=DATE:20250716
DTSTAMP:20260421T165824
CREATED:20240812T130106Z
LAST-MODIFIED:20240812T130106Z
UID:4505-1752537600-1752623999@bsoudendijk.nl
SUMMARY:Musical groep 8
DESCRIPTION:De generale is 's middags voor de hele school. \n's Avonds is de voorstelling voor familie en andere genodigden.
URL:https://bsoudendijk.nl/evenement/musical-groep-8-3/
END:VEVENT
BEGIN:VEVENT
DTSTART;TZID=UTC:20250716T120000
DTEND;TZID=UTC:20250716T123000
DTSTAMP:20260421T165824
CREATED:20240812T130159Z
LAST-MODIFIED:20240812T130159Z
UID:4507-1752667200-1752669000@bsoudendijk.nl
SUMMARY:Poortje groep 8!
DESCRIPTION:
URL:https://bsoudendijk.nl/evenement/poortje-groep-8/
END:VEVENT
BEGIN:VEVENT
DTSTART;TZID=UTC:20250718T090000
DTEND;TZID=UTC:20250718T120000
DTSTAMP:20260421T165824
CREATED:20240812T130303Z
LAST-MODIFIED:20240812T130303Z
UID:4509-1752829200-1752840000@bsoudendijk.nl
SUMMARY:Vossenjacht
DESCRIPTION:Hierna tellen wij af naar het begin van de zomervakantie!
URL:https://bsoudendijk.nl/evenement/vossenjacht-2/
END:VEVENT
BEGIN:VEVENT
DTSTART;VALUE=DATE:20250721
DTEND;VALUE=DATE:20250830
DTSTAMP:20260421T165824
CREATED:20240812T130352Z
LAST-MODIFIED:20240812T130352Z
UID:4511-1753056000-1756511999@bsoudendijk.nl
SUMMARY:Zomervakantie
DESCRIPTION:
URL:https://bsoudendijk.nl/evenement/zomervakantie-5/
END:VEVENT
END:VCALENDAR